BEGIN:VCALENDAR
VERSION:2.0
PRODID:-//Grenada Tourism Authority - ECPv6.13.2.1//NONSGML v1.0//EN
CALSCALE:GREGORIAN
METHOD:PUBLISH
X-WR-CALNAME:Grenada Tourism Authority
X-ORIGINAL-URL:https://www.puregrenada.com
X-WR-CALDESC:Events for Grenada Tourism Authority
REFRESH-INTERVAL;VALUE=DURATION:PT1H
X-Robots-Tag:noindex
X-PUBLISHED-TTL:PT1H
BEGIN:VTIMEZONE
TZID:America/Port_of_Spain
BEGIN:STANDARD
TZOFFSETFROM:-0400
TZOFFSETTO:-0400
TZNAME:AST
DTSTART:20230101T000000
END:STANDARD
END:VTIMEZONE
BEGIN:VEVENT
DTSTART;VALUE=DATE:20231130
DTEND;VALUE=DATE:20231208
DTSTAMP:20260421T081439
CREATED:20230824T143811Z
LAST-MODIFIED:20230824T151420Z
UID:10002024-1701302400-1701993599@www.puregrenada.com
SUMMARY:ARC + Atlantic Rally for Cruisers
DESCRIPTION:
URL:https://www.puregrenada.com/event/arc-atlantic-rally-for-cruisers/
ATTACH;FMTTYPE=image/jpeg:https://www.puregrenada.com/wp-content/uploads/2023/08/ARC-logo.jpg
END:VEVENT
BEGIN:VEVENT
DTSTART;VALUE=DATE:20231203
DTEND;VALUE=DATE:20231204
DTSTAMP:20260421T081439
CREATED:20230824T144031Z
LAST-MODIFIED:20230824T151451Z
UID:10002591-1701561600-1701647999@www.puregrenada.com
SUMMARY:Carols by Candlelight
DESCRIPTION:
URL:https://www.puregrenada.com/event/carols-by-candlelight/
CATEGORIES:Festivals & Culture
ATTACH;FMTTYPE=image/jpeg:https://www.puregrenada.com/wp-content/uploads/2023/08/Carols-by-Candlelight.jpeg
END:VEVENT
BEGIN:VEVENT
DTSTART;VALUE=DATE:20231203
DTEND;VALUE=DATE:20231222
DTSTAMP:20260421T081439
CREATED:20230829T131602Z
LAST-MODIFIED:20230829T131602Z
UID:10002308-1701561600-1703203199@www.puregrenada.com
SUMMARY:West Indies vs England
DESCRIPTION:
URL:https://www.puregrenada.com/event/west-indies-vs-england/
LOCATION:Grenada National Stadium\, Queens Park\, St. George's
ATTACH;FMTTYPE=image/jpeg:https://www.puregrenada.com/wp-content/uploads/2023/08/WIvEnglandMPU.jpeg
END:VEVENT
END:VCALENDAR