BEGIN:VCALENDAR
VERSION:2.0
PRODID:-//Grenada Tourism Authority - ECPv6.13.2.1//NONSGML v1.0//EN
CALSCALE:GREGORIAN
METHOD:PUBLISH
X-WR-CALNAME:Grenada Tourism Authority
X-ORIGINAL-URL:https://www.puregrenada.com
X-WR-CALDESC:Events for Grenada Tourism Authority
REFRESH-INTERVAL;VALUE=DURATION:PT1H
X-Robots-Tag:noindex
X-PUBLISHED-TTL:PT1H
BEGIN:VTIMEZONE
TZID:America/Port_of_Spain
BEGIN:STANDARD
TZOFFSETFROM:-0400
TZOFFSETTO:-0400
TZNAME:AST
DTSTART:20230101T000000
END:STANDARD
END:VTIMEZONE
BEGIN:VEVENT
DTSTART;TZID=America/Port_of_Spain:20231004T193000
DTEND;TZID=America/Port_of_Spain:20231004T193000
DTSTAMP:20260423T045716
CREATED:20230817T191324Z
LAST-MODIFIED:20230817T194123Z
UID:10003441-1696447800-1696447800@www.puregrenada.com
SUMMARY:Big Bingo
DESCRIPTION:
URL:https://www.puregrenada.com/event/big-bingo/2023-10-04/
LOCATION:Prickly Bay Marina\, Prickly Bay Marina\, St. George's\, Grenada
CATEGORIES:Festivals & Culture
ATTACH;FMTTYPE=image/jpeg:https://www.puregrenada.com/wp-content/uploads/2023/08/Prickly-Bay-Wednesday.jpeg
END:VEVENT
BEGIN:VEVENT
DTSTART;TZID=America/Port_of_Spain:20231011T193000
DTEND;TZID=America/Port_of_Spain:20231011T193000
DTSTAMP:20260423T045716
CREATED:20230817T191324Z
LAST-MODIFIED:20230817T194123Z
UID:10003442-1697052600-1697052600@www.puregrenada.com
SUMMARY:Big Bingo
DESCRIPTION:
URL:https://www.puregrenada.com/event/big-bingo/2023-10-11/
LOCATION:Prickly Bay Marina\, Prickly Bay Marina\, St. George's\, Grenada
CATEGORIES:Festivals & Culture
ATTACH;FMTTYPE=image/jpeg:https://www.puregrenada.com/wp-content/uploads/2023/08/Prickly-Bay-Wednesday.jpeg
END:VEVENT
BEGIN:VEVENT
DTSTART;TZID=America/Port_of_Spain:20231018T193000
DTEND;TZID=America/Port_of_Spain:20231018T193000
DTSTAMP:20260423T045716
CREATED:20230817T191324Z
LAST-MODIFIED:20230817T194123Z
UID:10003443-1697657400-1697657400@www.puregrenada.com
SUMMARY:Big Bingo
DESCRIPTION:
URL:https://www.puregrenada.com/event/big-bingo/2023-10-18/
LOCATION:Prickly Bay Marina\, Prickly Bay Marina\, St. George's\, Grenada
CATEGORIES:Festivals & Culture
ATTACH;FMTTYPE=image/jpeg:https://www.puregrenada.com/wp-content/uploads/2023/08/Prickly-Bay-Wednesday.jpeg
END:VEVENT
BEGIN:VEVENT
DTSTART;TZID=America/Port_of_Spain:20231025T193000
DTEND;TZID=America/Port_of_Spain:20231025T193000
DTSTAMP:20260423T045716
CREATED:20230817T191324Z
LAST-MODIFIED:20230817T194123Z
UID:10003444-1698262200-1698262200@www.puregrenada.com
SUMMARY:Big Bingo
DESCRIPTION:
URL:https://www.puregrenada.com/event/big-bingo/2023-10-25/
LOCATION:Prickly Bay Marina\, Prickly Bay Marina\, St. George's\, Grenada
CATEGORIES:Festivals & Culture
ATTACH;FMTTYPE=image/jpeg:https://www.puregrenada.com/wp-content/uploads/2023/08/Prickly-Bay-Wednesday.jpeg
END:VEVENT
BEGIN:VEVENT
DTSTART;VALUE=DATE:20231026
DTEND;VALUE=DATE:20231030
DTSTAMP:20260423T045716
CREATED:20230824T142816Z
LAST-MODIFIED:20230904T155903Z
UID:10002303-1698278400-1698623999@www.puregrenada.com
SUMMARY:Grenada Film Festival
DESCRIPTION:
URL:https://www.puregrenada.com/event/grenada-film-festival/
ATTACH;FMTTYPE=image/jpeg:https://www.puregrenada.com/wp-content/uploads/2023/08/Screenshot-2023-08-24-at-10.27.03-AM.jpg
END:VEVENT
END:VCALENDAR