BEGIN:VCALENDAR
VERSION:2.0
PRODID:-//Grenada Tourism Authority - ECPv6.13.2.1//NONSGML v1.0//EN
CALSCALE:GREGORIAN
METHOD:PUBLISH
X-ORIGINAL-URL:https://www.puregrenada.com
X-WR-CALDESC:Events for Grenada Tourism Authority
REFRESH-INTERVAL;VALUE=DURATION:PT1H
X-Robots-Tag:noindex
X-PUBLISHED-TTL:PT1H
BEGIN:VTIMEZONE
TZID:America/Port_of_Spain
BEGIN:STANDARD
TZOFFSETFROM:-0400
TZOFFSETTO:-0400
TZNAME:AST
DTSTART:20230101T000000
END:STANDARD
END:VTIMEZONE
BEGIN:VEVENT
DTSTART;TZID=America/Port_of_Spain:20230902T200000
DTEND;TZID=America/Port_of_Spain:20230902T200000
DTSTAMP:20260423T045744
CREATED:20230829T163232Z
LAST-MODIFIED:20230829T163232Z
UID:10002307-1693684800-1693684800@www.puregrenada.com
SUMMARY:Reggae Night
DESCRIPTION:
URL:https://www.puregrenada.com/event/reggae-night/
LOCATION:le phare bleu\, Le Phare Bleu\, St. George's\, Grenada
ATTACH;FMTTYPE=image/webp:https://www.puregrenada.com/wp-content/uploads/2023/08/ahkeem-concert-flyer.webp
END:VEVENT
BEGIN:VEVENT
DTSTART;TZID=America/Port_of_Spain:20230906T193000
DTEND;TZID=America/Port_of_Spain:20230906T193000
DTSTAMP:20260423T045744
CREATED:20230817T191324Z
LAST-MODIFIED:20230817T194123Z
UID:10003437-1694028600-1694028600@www.puregrenada.com
SUMMARY:Big Bingo
DESCRIPTION:
URL:https://www.puregrenada.com/event/big-bingo/2023-09-06/
LOCATION:Prickly Bay Marina\, Prickly Bay Marina\, St. George's\, Grenada
CATEGORIES:Festivals & Culture
ATTACH;FMTTYPE=image/jpeg:https://www.puregrenada.com/wp-content/uploads/2023/08/Prickly-Bay-Wednesday.jpeg
END:VEVENT
BEGIN:VEVENT
DTSTART;TZID=America/Port_of_Spain:20230909T150000
DTEND;TZID=America/Port_of_Spain:20230909T180000
DTSTAMP:20260423T045744
CREATED:20230907T184024Z
LAST-MODIFIED:20230907T184024Z
UID:10002586-1694271600-1694282400@www.puregrenada.com
SUMMARY:Coral Carnival
DESCRIPTION:
URL:https://www.puregrenada.com/event/coral-carnival/2023-09-09/
LOCATION:Prickly Bay Marina\, Prickly Bay Marina\, St. George's\, Grenada
ATTACH;FMTTYPE=image/jpeg:https://www.puregrenada.com/wp-content/uploads/2023/09/Coral-Carnival.jpg
END:VEVENT
BEGIN:VEVENT
DTSTART;TZID=America/Port_of_Spain:20230913T193000
DTEND;TZID=America/Port_of_Spain:20230913T193000
DTSTAMP:20260423T045744
CREATED:20230817T191324Z
LAST-MODIFIED:20230817T194123Z
UID:10003438-1694633400-1694633400@www.puregrenada.com
SUMMARY:Big Bingo
DESCRIPTION:
URL:https://www.puregrenada.com/event/big-bingo/2023-09-13/
LOCATION:Prickly Bay Marina\, Prickly Bay Marina\, St. George's\, Grenada
CATEGORIES:Festivals & Culture
ATTACH;FMTTYPE=image/jpeg:https://www.puregrenada.com/wp-content/uploads/2023/08/Prickly-Bay-Wednesday.jpeg
END:VEVENT
BEGIN:VEVENT
DTSTART;TZID=America/Port_of_Spain:20230916T150000
DTEND;TZID=America/Port_of_Spain:20230916T180000
DTSTAMP:20260423T045744
CREATED:20230907T184024Z
LAST-MODIFIED:20230907T184024Z
UID:10002587-1694876400-1694887200@www.puregrenada.com
SUMMARY:Coral Carnival
DESCRIPTION:
URL:https://www.puregrenada.com/event/coral-carnival/2023-09-16/
LOCATION:Prickly Bay Marina\, Prickly Bay Marina\, St. George's\, Grenada
ATTACH;FMTTYPE=image/jpeg:https://www.puregrenada.com/wp-content/uploads/2023/09/Coral-Carnival.jpg
END:VEVENT
BEGIN:VEVENT
DTSTART;TZID=America/Port_of_Spain:20230916T190000
DTEND;TZID=America/Port_of_Spain:20230916T220000
DTSTAMP:20260423T045744
CREATED:20230907T131914Z
LAST-MODIFIED:20230907T133128Z
UID:10002306-1694890800-1694901600@www.puregrenada.com
SUMMARY:Celebrate with a Balcony Concert
DESCRIPTION:Whether its your birthday\, anniversary\, or other special occasions\, come celebrate with us at True Blue Bay Resort with a private concert! Enjoy the sounds of Solid the Band with a DJ to end off the night 🎶 \nIncludes:\n🎊Overnight Stay for up to three people in a cocoa pod room\n🎊Welcome Drink on Arrival\n🎊Live three-hour Concert with Solid the Band and DJ\n🎊When you book\, Request a song for Solid the Band to PERFORM on the night!\n🎊Mini cake with a personalized message from House of Chocolate\n🎊Bottle of Prosecco in your room\n🎊Buffet Breakfast on Sunday morning\n🎊Access to resort facilities including 4 pools\, water sports\, yoga studio\, and rum shop\n🎊Check-in at 2 pm and Check-out at 12 pm
URL:https://www.puregrenada.com/event/celebrate-with-a-balcony-concert/
LOCATION:True Blue Bay Resort\, True Blue\, St. George's\, Grenada
CATEGORIES:Festivals & Culture
ATTACH;FMTTYPE=image/jpeg:https://www.puregrenada.com/wp-content/uploads/2023/09/Screenshot-2023-09-07-at-8.48.54-AM.jpg
ORGANIZER;CN="True Blue Bay Resort":MAILTO:reservations@truebluebay.com
END:VEVENT
BEGIN:VEVENT
DTSTART;TZID=America/Port_of_Spain:20230920T193000
DTEND;TZID=America/Port_of_Spain:20230920T193000
DTSTAMP:20260423T045744
CREATED:20230817T191324Z
LAST-MODIFIED:20230817T194123Z
UID:10003439-1695238200-1695238200@www.puregrenada.com
SUMMARY:Big Bingo
DESCRIPTION:
URL:https://www.puregrenada.com/event/big-bingo/2023-09-20/
LOCATION:Prickly Bay Marina\, Prickly Bay Marina\, St. George's\, Grenada
CATEGORIES:Festivals & Culture
ATTACH;FMTTYPE=image/jpeg:https://www.puregrenada.com/wp-content/uploads/2023/08/Prickly-Bay-Wednesday.jpeg
END:VEVENT
BEGIN:VEVENT
DTSTART;TZID=America/Port_of_Spain:20230923T150000
DTEND;TZID=America/Port_of_Spain:20230923T180000
DTSTAMP:20260423T045744
CREATED:20230907T184024Z
LAST-MODIFIED:20230907T184024Z
UID:10002588-1695481200-1695492000@www.puregrenada.com
SUMMARY:Coral Carnival
DESCRIPTION:
URL:https://www.puregrenada.com/event/coral-carnival/2023-09-23/
LOCATION:Prickly Bay Marina\, Prickly Bay Marina\, St. George's\, Grenada
ATTACH;FMTTYPE=image/jpeg:https://www.puregrenada.com/wp-content/uploads/2023/09/Coral-Carnival.jpg
END:VEVENT
BEGIN:VEVENT
DTSTART;TZID=America/Port_of_Spain:20230927T193000
DTEND;TZID=America/Port_of_Spain:20230927T193000
DTSTAMP:20260423T045744
CREATED:20230817T191324Z
LAST-MODIFIED:20230817T194123Z
UID:10003440-1695843000-1695843000@www.puregrenada.com
SUMMARY:Big Bingo
DESCRIPTION:
URL:https://www.puregrenada.com/event/big-bingo/2023-09-27/
LOCATION:Prickly Bay Marina\, Prickly Bay Marina\, St. George's\, Grenada
CATEGORIES:Festivals & Culture
ATTACH;FMTTYPE=image/jpeg:https://www.puregrenada.com/wp-content/uploads/2023/08/Prickly-Bay-Wednesday.jpeg
END:VEVENT
BEGIN:VEVENT
DTSTART;TZID=America/Port_of_Spain:20230930T150000
DTEND;TZID=America/Port_of_Spain:20230930T180000
DTSTAMP:20260423T045744
CREATED:20230907T184024Z
LAST-MODIFIED:20230907T184024Z
UID:10002589-1696086000-1696096800@www.puregrenada.com
SUMMARY:Coral Carnival
DESCRIPTION:
URL:https://www.puregrenada.com/event/coral-carnival/2023-09-30/
LOCATION:Prickly Bay Marina\, Prickly Bay Marina\, St. George's\, Grenada
ATTACH;FMTTYPE=image/jpeg:https://www.puregrenada.com/wp-content/uploads/2023/09/Coral-Carnival.jpg
END:VEVENT
END:VCALENDAR