BEGIN:VCALENDAR
VERSION:2.0
PRODID:-//Grenada Tourism Authority - ECPv6.13.2.1//NONSGML v1.0//EN
CALSCALE:GREGORIAN
METHOD:PUBLISH
X-ORIGINAL-URL:https://www.puregrenada.com
X-WR-CALDESC:Events for Grenada Tourism Authority
REFRESH-INTERVAL;VALUE=DURATION:PT1H
X-Robots-Tag:noindex
X-PUBLISHED-TTL:PT1H
BEGIN:VTIMEZONE
TZID:America/Port_of_Spain
BEGIN:STANDARD
TZOFFSETFROM:-0400
TZOFFSETTO:-0400
TZNAME:AST
DTSTART:20230101T000000
END:STANDARD
END:VTIMEZONE
BEGIN:VEVENT
DTSTART;TZID=America/Port_of_Spain:20230809T220000
DTEND;TZID=America/Port_of_Spain:20230809T220000
DTSTAMP:20260423T062342
CREATED:20230719T154428Z
LAST-MODIFIED:20230724T112818Z
UID:10002018-1691618400-1691618400@www.puregrenada.com
SUMMARY:Pree Day - Black & Gold Edition
DESCRIPTION:Preeday 2023 – Tallpree turns 50 \nThe Biggest Show for Grenada Carnival \nBlack & Gold Edition \nGrenada National Stadium \nEarly Bird EC$75/VIP EC$500 \nMore info coming…
URL:https://www.puregrenada.com/event/pree-day-black-gold-edition/
LOCATION:Grenada National Stadium\, Queens Park\, St. George's
ATTACH;FMTTYPE=image/jpeg:https://www.puregrenada.com/wp-content/uploads/2023/07/pree.jpeg
END:VEVENT
BEGIN:VEVENT
DTSTART;TZID=America/Port_of_Spain:20230823T193000
DTEND;TZID=America/Port_of_Spain:20230823T193000
DTSTAMP:20260423T062342
CREATED:20230817T191324Z
LAST-MODIFIED:20230817T194123Z
UID:10003435-1692819000-1692819000@www.puregrenada.com
SUMMARY:Big Bingo
DESCRIPTION:
URL:https://www.puregrenada.com/event/big-bingo/2023-08-23/
LOCATION:Prickly Bay Marina\, Prickly Bay Marina\, St. George's\, Grenada
CATEGORIES:Festivals & Culture
ATTACH;FMTTYPE=image/jpeg:https://www.puregrenada.com/wp-content/uploads/2023/08/Prickly-Bay-Wednesday.jpeg
END:VEVENT
BEGIN:VEVENT
DTSTART;TZID=America/Port_of_Spain:20230830T193000
DTEND;TZID=America/Port_of_Spain:20230830T193000
DTSTAMP:20260423T062342
CREATED:20230817T191324Z
LAST-MODIFIED:20230817T194123Z
UID:10003436-1693423800-1693423800@www.puregrenada.com
SUMMARY:Big Bingo
DESCRIPTION:
URL:https://www.puregrenada.com/event/big-bingo/2023-08-30/
LOCATION:Prickly Bay Marina\, Prickly Bay Marina\, St. George's\, Grenada
CATEGORIES:Festivals & Culture
ATTACH;FMTTYPE=image/jpeg:https://www.puregrenada.com/wp-content/uploads/2023/08/Prickly-Bay-Wednesday.jpeg
END:VEVENT
END:VCALENDAR