BEGIN:VCALENDAR
VERSION:2.0
PRODID:-//Grenada Tourism Authority - ECPv6.13.2.1//NONSGML v1.0//EN
CALSCALE:GREGORIAN
METHOD:PUBLISH
X-ORIGINAL-URL:https://www.puregrenada.com
X-WR-CALDESC:Events for Grenada Tourism Authority
REFRESH-INTERVAL;VALUE=DURATION:PT1H
X-Robots-Tag:noindex
X-PUBLISHED-TTL:PT1H
BEGIN:VTIMEZONE
TZID:America/Port_of_Spain
BEGIN:STANDARD
TZOFFSETFROM:-0400
TZOFFSETTO:-0400
TZNAME:AST
DTSTART:20230101T000000
END:STANDARD
END:VTIMEZONE
BEGIN:VEVENT
DTSTART;TZID=America/Port_of_Spain:20230506T200000
DTEND;TZID=America/Port_of_Spain:20230506T200000
DTSTAMP:20260423T090943
CREATED:20230427T123142Z
LAST-MODIFIED:20230427T123352Z
UID:10002013-1683403200-1683403200@www.puregrenada.com
SUMMARY:Calabash Night
DESCRIPTION:
URL:https://www.puregrenada.com/event/calabash-night/
LOCATION:La Boucan Creative Centre\, Kirani James Boulevard\, St. George's\, Grenada
ATTACH;FMTTYPE=image/jpeg:https://www.puregrenada.com/wp-content/uploads/2023/04/Calabash-Night-May.jpg
END:VEVENT
END:VCALENDAR