BEGIN:VCALENDAR
VERSION:2.0
PRODID:-//Grenada Tourism Authority - ECPv6.13.2.1//NONSGML v1.0//EN
CALSCALE:GREGORIAN
METHOD:PUBLISH
X-ORIGINAL-URL:https://www.puregrenada.com
X-WR-CALDESC:Events for Grenada Tourism Authority
REFRESH-INTERVAL;VALUE=DURATION:PT1H
X-Robots-Tag:noindex
X-PUBLISHED-TTL:PT1H
BEGIN:VTIMEZONE
TZID:America/Port_of_Spain
BEGIN:STANDARD
TZOFFSETFROM:-0400
TZOFFSETTO:-0400
TZNAME:AST
DTSTART:20240101T000000
END:STANDARD
END:VTIMEZONE
BEGIN:VEVENT
DTSTART;VALUE=DATE:20240331
DTEND;VALUE=DATE:20240402
DTSTAMP:20260419T084302
CREATED:20240118T174146Z
LAST-MODIFIED:20240327T140338Z
UID:10004016-1711843200-1712015999@www.puregrenada.com
SUMMARY:Carifta Games-Grenada 2024
DESCRIPTION:
URL:https://www.puregrenada.com/event/carifta-games-grenada-2024/
LOCATION:Grenada National Stadium\, Queens Park\, St. George's
CATEGORIES:Festivals & Culture
ATTACH;FMTTYPE=image/jpeg:https://www.puregrenada.com/wp-content/uploads/2024/01/Carifta-Games-2024-flyer.jpeg
END:VEVENT
BEGIN:VEVENT
DTSTART;VALUE=DATE:20240417
DTEND;VALUE=DATE:20240420
DTSTAMP:20260419T084302
CREATED:20240119T190320Z
LAST-MODIFIED:20240119T190320Z
UID:10004019-1713312000-1713571199@www.puregrenada.com
SUMMARY:11th Grenada Chocolate and Rum Festival
DESCRIPTION:
URL:https://www.puregrenada.com/event/11th-grenada-chocolate-and-rum-festival/
CATEGORIES:Festivals & Culture
END:VEVENT
BEGIN:VEVENT
DTSTART;VALUE=DATE:20240422
DTEND;VALUE=DATE:20240425
DTSTAMP:20260419T084302
CREATED:20240118T175436Z
LAST-MODIFIED:20240409T185432Z
UID:10004018-1713744000-1714003199@www.puregrenada.com
SUMMARY:CTO Caribbean Tourism Organization Sustainability Tourism Conference
DESCRIPTION:For information on the CTO Post Conference tours 2024 Click here
URL:https://www.puregrenada.com/event/cto-conference-2024/
CATEGORIES:Festivals & Culture
ATTACH;FMTTYPE=image/jpeg:https://www.puregrenada.com/wp-content/uploads/2024/01/Screenshot-2024-03-11-at-2.46.22 PM-jpg.avif
END:VEVENT
BEGIN:VEVENT
DTSTART;VALUE=DATE:20240426
DTEND;VALUE=DATE:20240429
DTSTAMP:20260419T084303
CREATED:20230427T124128Z
LAST-MODIFIED:20240311T175537Z
UID:10002014-1714089600-1714348799@www.puregrenada.com
SUMMARY:Carriacou Maroon & Stringband Music Festival
DESCRIPTION:  \n 
URL:https://www.puregrenada.com/event/carriacou-maroon-stringband-music-festival/
LOCATION:Carriacou\, Carriacou\, Grenada
CATEGORIES:Festivals & Culture
ATTACH;FMTTYPE=image/jpeg:https://www.puregrenada.com/wp-content/uploads/2023/04/344744545_606369568209153_5922330057840152456_n.jpeg
END:VEVENT
BEGIN:VEVENT
DTSTART;VALUE=DATE:20240505
DTEND;VALUE=DATE:20240506
DTSTAMP:20260419T084303
CREATED:20240319T131439Z
LAST-MODIFIED:20240319T132028Z
UID:10004033-1714867200-1714953599@www.puregrenada.com
SUMMARY:Uncorked
DESCRIPTION:
URL:https://www.puregrenada.com/event/uncorked/
LOCATION:Quarantine Point\, Quarantine Point\, St. George's\, Grenada
CATEGORIES:Festivals & Culture
ATTACH;FMTTYPE=image/jpeg:https://www.puregrenada.com/wp-content/uploads/2024/03/Uncorked-2024-STD.jpg
END:VEVENT
BEGIN:VEVENT
DTSTART;VALUE=DATE:20241024
DTEND;VALUE=DATE:20241029
DTSTAMP:20260419T084303
CREATED:20240123T183634Z
LAST-MODIFIED:20240123T183634Z
UID:10004026-1729728000-1730159999@www.puregrenada.com
SUMMARY:1261 Film Festival
DESCRIPTION:
URL:https://www.puregrenada.com/event/1261-film-festival/
CATEGORIES:Festivals & Culture
END:VEVENT
BEGIN:VEVENT
DTSTART;VALUE=DATE:20241127
DTEND;VALUE=DATE:20241208
DTSTAMP:20260419T084303
CREATED:20240123T184721Z
LAST-MODIFIED:20240123T184721Z
UID:10004028-1732665600-1733615999@www.puregrenada.com
SUMMARY:4th Annual ARC + International Transatlantic Rally
DESCRIPTION:
URL:https://www.puregrenada.com/event/4th-annual-arc-international-transatlantic-rally/
CATEGORIES:Festivals & Culture
END:VEVENT
BEGIN:VEVENT
DTSTART;VALUE=DATE:20241201
DTEND;VALUE=DATE:20241202
DTSTAMP:20260419T084303
CREATED:20240123T184840Z
LAST-MODIFIED:20240123T184840Z
UID:10004029-1733011200-1733097599@www.puregrenada.com
SUMMARY:Carols by Candlelight
DESCRIPTION:
URL:https://www.puregrenada.com/event/carols-by-candlelight-2/
CATEGORIES:Festivals & Culture
END:VEVENT
BEGIN:VEVENT
DTSTART;VALUE=DATE:20250106
DTEND;VALUE=DATE:20250209
DTSTAMP:20260419T084303
CREATED:20250108T183655Z
LAST-MODIFIED:20250108T183655Z
UID:10004055-1736121600-1739059199@www.puregrenada.com
SUMMARY:VE Viking Explorers "the Friendly" Transatlantic Rally
DESCRIPTION:
URL:https://www.puregrenada.com/event/ve-viking-explorers-the-friendly-transatlantic-rally/
LOCATION:Port Louis Marina\, Port Louis Marina\, St. George's\, Grenada
ATTACH;FMTTYPE=image/jpeg:https://www.puregrenada.com/wp-content/uploads/2024/01/Viking-Explorers-Flyer.jpg
END:VEVENT
BEGIN:VEVENT
DTSTART;VALUE=DATE:20250111
DTEND;VALUE=DATE:20250113
DTSTAMP:20260419T084303
CREATED:20250108T164432Z
LAST-MODIFIED:20250108T164526Z
UID:10004049-1736553600-1736726399@www.puregrenada.com
SUMMARY:Scents of Grenada No. 9
DESCRIPTION:
URL:https://www.puregrenada.com/event/scents-of-grenada-no-9/
LOCATION:The Tower Estate\, Grenada\, St. George's\, Grenada
CATEGORIES:Festivals & Culture
ATTACH;FMTTYPE=image/jpeg:https://www.puregrenada.com/wp-content/uploads/2025/01/Screenshot-2025-01-08-at-12.37.39 PM.avif
END:VEVENT
BEGIN:VEVENT
DTSTART;VALUE=DATE:20250112
DTEND;VALUE=DATE:20250127
DTSTAMP:20260419T084303
CREATED:20250108T165027Z
LAST-MODIFIED:20250108T165027Z
UID:10004050-1736640000-1737935999@www.puregrenada.com
SUMMARY:RORC Royal Ocean Racing Club Transatlantic Race
DESCRIPTION:
URL:https://www.puregrenada.com/event/rorc-royal-ocean-racing-club-transatlantic-race/
LOCATION:Port Louis Marina\, Port Louis Marina\, St. George's\, Grenada
CATEGORIES:Festivals & Culture
ATTACH;FMTTYPE=image/jpeg:https://www.puregrenada.com/wp-content/uploads/2025/01/Screenshot-2025-01-08-at-12.47.05 PM-scaled.avif
END:VEVENT
BEGIN:VEVENT
DTSTART;VALUE=DATE:20250127
DTEND;VALUE=DATE:20250201
DTSTAMP:20260419T084303
CREATED:20250108T170659Z
LAST-MODIFIED:20250108T170659Z
UID:10004051-1737936000-1738367999@www.puregrenada.com
SUMMARY:Republic Bank Billfish Tournament 2025
DESCRIPTION:
URL:https://www.puregrenada.com/event/republic-bank-billfish-tournament-2025/
CATEGORIES:Festivals & Culture
ATTACH;FMTTYPE=image/jpeg:https://www.puregrenada.com/wp-content/uploads/2025/01/Billfish-Signature-.avif
END:VEVENT
BEGIN:VEVENT
DTSTART;VALUE=DATE:20250206
DTEND;VALUE=DATE:20250207
DTSTAMP:20260419T084303
CREATED:20250108T170848Z
LAST-MODIFIED:20250108T170848Z
UID:10004052-1738800000-1738886399@www.puregrenada.com
SUMMARY:National Colours Day
DESCRIPTION:
URL:https://www.puregrenada.com/event/national-colours-day/
CATEGORIES:Festivals & Culture
ATTACH;FMTTYPE=image/png:https://www.puregrenada.com/wp-content/uploads/2022/05/GOG-Flag.png
END:VEVENT
BEGIN:VEVENT
DTSTART;VALUE=DATE:20250207
DTEND;VALUE=DATE:20250208
DTSTAMP:20260419T084303
CREATED:20250108T171059Z
LAST-MODIFIED:20250108T171059Z
UID:10004053-1738886400-1738972799@www.puregrenada.com
SUMMARY:Independence Day
DESCRIPTION:
URL:https://www.puregrenada.com/event/independence-day/
CATEGORIES:Festivals & Culture
ATTACH;FMTTYPE=image/png:https://www.puregrenada.com/wp-content/uploads/2022/05/GOG-Flag.png
END:VEVENT
BEGIN:VEVENT
DTSTART;VALUE=DATE:20250213
DTEND;VALUE=DATE:20250214
DTSTAMP:20260419T084303
CREATED:20250130T130207Z
LAST-MODIFIED:20250205T140945Z
UID:10004056-1739404800-1739491199@www.puregrenada.com
SUMMARY:Sunset City Spice Breadfruit Fest
DESCRIPTION:
URL:https://www.puregrenada.com/event/sunset-city-spice-breadfruit-fest/
LOCATION:Victoria\, St.Mark\, Victoria\, St. Mark\, Grenada
CATEGORIES:Festivals & Culture
ATTACH;FMTTYPE=image/jpeg:https://www.puregrenada.com/wp-content/uploads/2025/01/image001-jpg.avif
END:VEVENT
BEGIN:VEVENT
DTSTART;VALUE=DATE:20250226
DTEND;VALUE=DATE:20250305
DTSTAMP:20260419T084303
CREATED:20250130T131821Z
LAST-MODIFIED:20250130T131821Z
UID:10004057-1740528000-1741132799@www.puregrenada.com
SUMMARY:Carnival Carnival Kayak Mas
DESCRIPTION:
URL:https://www.puregrenada.com/event/carnival-carnival-kayak-mas/
CATEGORIES:Festivals & Culture
ATTACH;FMTTYPE=image/jpeg:https://www.puregrenada.com/wp-content/uploads/2025/01/Screenshot-2025-01-30-at-9.11.37 AM-jpg.avif
END:VEVENT
BEGIN:VEVENT
DTSTART;VALUE=DATE:20250301
DTEND;VALUE=DATE:20250303
DTSTAMP:20260419T084303
CREATED:20250108T174148Z
LAST-MODIFIED:20250130T130608Z
UID:10004054-1740787200-1740959999@www.puregrenada.com
SUMMARY:Westerhall Whitejack Workboat Regatta
DESCRIPTION:
URL:https://www.puregrenada.com/event/westerhall-whitejack-workboat-regatta/
CATEGORIES:Festivals & Culture
ATTACH;FMTTYPE=image/jpeg:https://www.puregrenada.com/wp-content/uploads/2025/01/Screenshot-2025-01-30-at-9.04.58 AM-jpg.avif
END:VEVENT
BEGIN:VEVENT
DTSTART;VALUE=DATE:20250413
DTEND;VALUE=DATE:20250414
DTSTAMP:20260419T084303
CREATED:20250411T123855Z
LAST-MODIFIED:20250411T124147Z
UID:10004063-1744502400-1744588799@www.puregrenada.com
SUMMARY:Rainbow Cup Grenada Triathlon
DESCRIPTION:
URL:https://www.puregrenada.com/event/rainbow-cup-grenada-triathlon/
LOCATION:Camerhogne Park\, St. George’s\, Camerhogne Park\, St. George's\, Grenada
CATEGORIES:Festivals & Culture
ATTACH;FMTTYPE=image/jpeg:https://www.puregrenada.com/wp-content/uploads/2025/04/triathlon-jpg.avif
END:VEVENT
BEGIN:VEVENT
DTSTART;VALUE=DATE:20250420
DTEND;VALUE=DATE:20250422
DTSTAMP:20260419T084303
CREATED:20240118T174412Z
LAST-MODIFIED:20250408T172405Z
UID:10004017-1745107200-1745279999@www.puregrenada.com
SUMMARY:Blast Gouyave Easter Regatta
DESCRIPTION:
URL:https://www.puregrenada.com/event/blast-gouyave-easter-regatta/
LOCATION:Gouyave\, Gouyave\, St. John\, Grenada
CATEGORIES:Festivals & Culture
ATTACH;FMTTYPE=image/jpeg:https://www.puregrenada.com/wp-content/uploads/2024/01/Screenshot-2025-04-08-at-1.21.14 PM-jpg.avif
END:VEVENT
BEGIN:VEVENT
DTSTART;VALUE=DATE:20250425
DTEND;VALUE=DATE:20250428
DTSTAMP:20260419T084303
CREATED:20250130T132916Z
LAST-MODIFIED:20250408T174435Z
UID:10004058-1745539200-1745798399@www.puregrenada.com
SUMMARY:Carriacou Maroon & Stringband Festival
DESCRIPTION:
URL:https://www.puregrenada.com/event/carriacou-maroon-stringband-festival/
CATEGORIES:Festivals & Culture
ATTACH;FMTTYPE=image/jpeg:https://www.puregrenada.com/wp-content/uploads/2025/01/Screenshot-2025-04-08-at-1.24.36 PM-jpg.avif
END:VEVENT
BEGIN:VEVENT
DTSTART;VALUE=DATE:20250425
DTEND;VALUE=DATE:20250430
DTSTAMP:20260419T084303
CREATED:20250130T134126Z
LAST-MODIFIED:20250425T195824Z
UID:10004059-1745539200-1745971199@www.puregrenada.com
SUMMARY:Scents of Grenada No. 10
DESCRIPTION:
URL:https://www.puregrenada.com/event/scents-of-grenada-no-10/
LOCATION:The Tower Estate\, Grenada\, St. George's\, Grenada
CATEGORIES:Festivals & Culture
ATTACH;FMTTYPE=image/jpeg:https://www.puregrenada.com/wp-content/uploads/2025/01/Screenshot-2025-01-30-at-9.39.55 AM-jpg.avif
END:VEVENT
BEGIN:VEVENT
DTSTART;VALUE=DATE:20250511
DTEND;VALUE=DATE:20250512
DTSTAMP:20260419T084303
CREATED:20250411T125340Z
LAST-MODIFIED:20250414T135424Z
UID:10004064-1746921600-1747007999@www.puregrenada.com
SUMMARY:Masters of Calypso 7
DESCRIPTION:
URL:https://www.puregrenada.com/event/masters-of-calypso-7/
LOCATION:Morne Rouge\, Morne Rouge Playing Field\, St. George's\, Grenada
CATEGORIES:Festivals & Culture
ATTACH;FMTTYPE=image/jpeg:https://www.puregrenada.com/wp-content/uploads/2025/04/Masters-of-Calypso-Flyer-jpg.avif
END:VEVENT
BEGIN:VEVENT
DTSTART;VALUE=DATE:20250523
DTEND;VALUE=DATE:20250528
DTSTAMP:20260419T084303
CREATED:20250130T135233Z
LAST-MODIFIED:20250130T135233Z
UID:10004060-1747958400-1748390399@www.puregrenada.com
SUMMARY:12th Annual Grenada Chocolate Festival
DESCRIPTION:
URL:https://www.puregrenada.com/event/12th-annual-grenada-chocolate-festival/
CATEGORIES:Festivals & Culture
ATTACH;FMTTYPE=image/jpeg:https://www.puregrenada.com/wp-content/uploads/2025/01/GCF-2025-Save-the-Date-jpg.avif
END:VEVENT
BEGIN:VEVENT
DTSTART;VALUE=DATE:20250606
DTEND;VALUE=DATE:20250610
DTSTAMP:20260419T084303
CREATED:20240119T190643Z
LAST-MODIFIED:20250528T135840Z
UID:10004020-1749168000-1749513599@www.puregrenada.com
SUMMARY:Petite Martinique Whitsuntide Regatta Festival
DESCRIPTION:
URL:https://www.puregrenada.com/event/petite-martinique-whitsuntide-regatta-festival/
CATEGORIES:Festivals & Culture
END:VEVENT
BEGIN:VEVENT
DTSTART;TZID=America/Port_of_Spain:20250703T100000
DTEND;TZID=America/Port_of_Spain:20250707T180000
DTSTAMP:20260419T084303
CREATED:20250424T135525Z
LAST-MODIFIED:20250424T140238Z
UID:10004065-1751536800-1751911200@www.puregrenada.com
SUMMARY:West Indies vs Australia 2nd Test
DESCRIPTION:Tickets can be purchased through this link.
URL:https://www.puregrenada.com/event/west-indies-vs-australia-2nd-test/
LOCATION:Grenada National Stadium\, Queens Park\, St. George's
CATEGORIES:Festivals & Culture
ATTACH;FMTTYPE=image/jpeg:https://www.puregrenada.com/wp-content/uploads/2025/04/wi-vs-aus-jpg.avif
END:VEVENT
BEGIN:VEVENT
DTSTART;VALUE=DATE:20250731
DTEND;VALUE=DATE:20250806
DTSTAMP:20260419T084303
CREATED:20240123T183111Z
LAST-MODIFIED:20250526T135553Z
UID:10004023-1753920000-1754438399@www.puregrenada.com
SUMMARY:Carriacou Regatta Festival
DESCRIPTION:
URL:https://www.puregrenada.com/event/carriacou-regatta-festival-2/
LOCATION:Carriacou\, Carriacou\, Grenada
CATEGORIES:Festivals & Culture
END:VEVENT
BEGIN:VEVENT
DTSTART;VALUE=DATE:20250801
DTEND;VALUE=DATE:20250813
DTSTAMP:20260419T084303
CREATED:20240123T182721Z
LAST-MODIFIED:20250130T141217Z
UID:10004022-1754006400-1755043199@www.puregrenada.com
SUMMARY:Spicemas 2025
DESCRIPTION:
URL:https://www.puregrenada.com/event/spicemas-2024/
CATEGORIES:Festivals & Culture
ATTACH;FMTTYPE=image/jpeg:https://www.puregrenada.com/wp-content/uploads/2024/01/Screenshot-2025-01-30-at-10.09.35 AM-jpg.avif
END:VEVENT
BEGIN:VEVENT
DTSTART;VALUE=DATE:20250804
DTEND;VALUE=DATE:20250805
DTSTAMP:20260419T084303
CREATED:20250526T140938Z
LAST-MODIFIED:20250526T141019Z
UID:10004066-1754265600-1754351999@www.puregrenada.com
SUMMARY:Emancipation Celebrations
DESCRIPTION:
URL:https://www.puregrenada.com/event/emancipation-celebrations/
END:VEVENT
BEGIN:VEVENT
DTSTART;VALUE=DATE:20251016
DTEND;VALUE=DATE:20251021
DTSTAMP:20260419T084303
CREATED:20240123T183545Z
LAST-MODIFIED:20250130T141423Z
UID:10004025-1760572800-1761004799@www.puregrenada.com
SUMMARY:Dance Grenada
DESCRIPTION:
URL:https://www.puregrenada.com/event/dance-grenada/
CATEGORIES:Festivals & Culture
END:VEVENT
BEGIN:VEVENT
DTSTART;VALUE=DATE:20251024
DTEND;VALUE=DATE:20251029
DTSTAMP:20260419T084303
CREATED:20250130T142118Z
LAST-MODIFIED:20251023T162002Z
UID:10004061-1761264000-1761695999@www.puregrenada.com
SUMMARY:Scents of Grenada No.11
DESCRIPTION:Scents of Grenada No 11 – The Caribbean only fragrance festival is happening this weekend. Whether you are a perfume enthusiast or just a novice this festival has something for you. Fragrance and food pairings\, culinary interactive experience\, Fragrance Feast. Call 1-473-405-8807 or email info@thetowerestategrenada.com
URL:https://www.puregrenada.com/event/scents-of-grenada-no-11/
LOCATION:The Tower Estate\, Grenada\, St. George's\, Grenada
CATEGORIES:Festivals & Culture
ATTACH;FMTTYPE=image/jpeg:https://www.puregrenada.com/wp-content/uploads/2025/01/PHOTO-2025-10-08-14-28-23.avif
END:VEVENT
END:VCALENDAR